BEGIN:VCALENDAR
VERSION:2.0
PRODID:-//Sabre//Sabre VObject 4.5.6//EN
CALSCALE:GREGORIAN
BEGIN:VEVENT
UID:sabre-vobject-e7c2e600-3a40-40fd-8356-081a247f0661
DTSTAMP:20260421T232519Z
SUMMARY:Maiandacht in Fernhag beim Grünewald-Kreuz
DESCRIPTION:https://gottesdienstsuche.com/maiandacht-in-fernhag-beim-gruene
 wald-kreuz_id40643
DTSTART:20260522T190000
LOCATION:Pfarrkirche Scheyern-Heilig Kreuz (Klosterkirche)\, Schyrenplatz \
 , 85298 Scheyern
END:VEVENT
END:VCALENDAR
