BEGIN:VCALENDAR
VERSION:2.0
PRODID:-//Sabre//Sabre VObject 4.5.6//EN
CALSCALE:GREGORIAN
BEGIN:VEVENT
UID:sabre-vobject-3566a75b-6ba7-422d-9e20-a8c4059b7586
DTSTAMP:20260422T005812Z
SUMMARY:Vesper
DESCRIPTION:https://gottesdienstsuche.com/vesper_id40642
DTSTART:20260522T174500
LOCATION:Kapitelkirche Scheyern-St. Johannes Nepomuk\, Schyrenplatz\, 85298
  Scheyern
END:VEVENT
END:VCALENDAR
