BEGIN:VCALENDAR
VERSION:2.0
PRODID:-//Sabre//Sabre VObject 4.5.6//EN
CALSCALE:GREGORIAN
BEGIN:VEVENT
UID:sabre-vobject-e3d480a9-41a4-40bd-9b84-83b5242b5058
DTSTAMP:20260422T043507Z
SUMMARY:Abendgottesdienst
DESCRIPTION:https://gottesdienstsuche.com/abendgottesdienst_id40641
DTSTART:20260521T190000
LOCATION:Pfarrkirche Gerolsbach-St. Andreas\, St.-Andreas-Str. 7\, 85302 Ge
 rolsbach
END:VEVENT
END:VCALENDAR
