BEGIN:VCALENDAR
VERSION:2.0
PRODID:-//Sabre//Sabre VObject 4.5.6//EN
CALSCALE:GREGORIAN
BEGIN:VEVENT
UID:sabre-vobject-15352286-4366-4f20-b6c6-8775a23c9abb
DTSTAMP:20260422T024300Z
SUMMARY:Maiandacht
DESCRIPTION:https://gottesdienstsuche.com/maiandacht_id40640
DTSTART:20260521T190000
LOCATION:Pfarrkirche Niederscheyern-Maria Verkündigung\, Scheyererweg 3\, 
 85276 Niederscheyern
END:VEVENT
END:VCALENDAR
