BEGIN:VCALENDAR
VERSION:2.0
PRODID:-//Sabre//Sabre VObject 4.5.6//EN
CALSCALE:GREGORIAN
BEGIN:VEVENT
UID:sabre-vobject-7b2daf63-ad5e-434c-8ec4-af91b89110bf
DTSTAMP:20260421T232656Z
SUMMARY:Abendgottesdienst
DESCRIPTION:https://gottesdienstsuche.com/abendgottesdienst_id40630
DTSTART:20260517T190000
LOCATION:Pfarrkirche Scheyern-Heilig Kreuz (Klosterkirche)\, Schyrenplatz \
 , 85298 Scheyern
END:VEVENT
END:VCALENDAR
