BEGIN:VCALENDAR
VERSION:2.0
PRODID:-//Sabre//Sabre VObject 4.5.6//EN
CALSCALE:GREGORIAN
BEGIN:VEVENT
UID:sabre-vobject-c39da13a-4a05-4c80-8515-8186e7664569
DTSTAMP:20260421T232659Z
SUMMARY:Vesper mit eucharistischem Segen\n
DESCRIPTION:https://gottesdienstsuche.com/vesper-mit-eucharistischem-segen_
 id40629
DTSTART:20260517T163000
LOCATION:Pfarrkirche Scheyern-Heilig Kreuz (Klosterkirche)\, Schyrenplatz \
 , 85298 Scheyern
END:VEVENT
END:VCALENDAR
