BEGIN:VCALENDAR
VERSION:2.0
PRODID:-//Sabre//Sabre VObject 4.5.6//EN
CALSCALE:GREGORIAN
BEGIN:VEVENT
UID:sabre-vobject-247b1adf-07e0-4a1c-8c55-3c314ad15a1c
DTSTAMP:20260422T005913Z
SUMMARY:Familiengottesdienst auf der Wiese am Ortsausgang Richtung Plöckin
 g (Scheyerer Weg)\, bei Regen unter dem Dach der Grundschule: Gemeinsam mi
 t der Baptistengemeinde\; Vorstellung der Firmlinge
DESCRIPTION:https://gottesdienstsuche.com/familiengottesdienst-auf-der-wies
 e-am-ortsausgang-richtung-ploecking-scheyerer-weg-bei-regen-unter-dem-dach
 -der-grundschule-gemeinsam-mit-der-baptistengemeinde-vorstellung-der-firml
 inge_id40628
DTSTART:20260517T100000
LOCATION:Pfarrkirche Niederscheyern-Maria Verkündigung\, Scheyererweg 3\, 
 85276 Niederscheyern
END:VEVENT
END:VCALENDAR
