BEGIN:VCALENDAR
VERSION:2.0
PRODID:-//Sabre//Sabre VObject 4.5.6//EN
CALSCALE:GREGORIAN
BEGIN:VEVENT
UID:sabre-vobject-0397590b-bb54-4962-a567-3b64f74131dd
DTSTAMP:20260421T232828Z
SUMMARY:Dank- und Bittmesse mit Hl. Kreuzsegen
DESCRIPTION:https://gottesdienstsuche.com/dank-und-bittmesse-mit-hl-kreuzse
 gen_id40621
DTSTART:20260515T190000
LOCATION:Pfarrkirche Scheyern-Heilig Kreuz (Klosterkirche)\, Schyrenplatz \
 , 85298 Scheyern
END:VEVENT
END:VCALENDAR
