BEGIN:VCALENDAR
VERSION:2.0
PRODID:-//Sabre//Sabre VObject 4.5.6//EN
CALSCALE:GREGORIAN
BEGIN:VEVENT
UID:sabre-vobject-d2a084a2-2201-4588-97c1-96a9295ca8fc
DTSTAMP:20260423T103633Z
SUMMARY:Vesper
DESCRIPTION:https://gottesdienstsuche.com/vesper_id40620
DTSTART:20260515T174500
LOCATION:Kapitelkirche Scheyern-St. Johannes Nepomuk\, Schyrenplatz\, 85298
  Scheyern
END:VEVENT
END:VCALENDAR
