BEGIN:VCALENDAR
VERSION:2.0
PRODID:-//Sabre//Sabre VObject 4.5.6//EN
CALSCALE:GREGORIAN
BEGIN:VEVENT
UID:sabre-vobject-86f99d7f-d425-4cf5-b8a5-67d07975b1e6
DTSTAMP:20260422T010115Z
SUMMARY:Bittgang von Niederscheyern nach Blaumosen. Bei starkem Regen kein 
 Bittgang\, sondern Maiandacht in der Kirche
DESCRIPTION:https://gottesdienstsuche.com/bittgang-von-niederscheyern-nach-
 blaumosen-bei-starkem-regen-kein-bittgang-sondern-maiandacht-in-der-kirche
 _id40617
DTSTART:20260514T183000
LOCATION:Pfarrkirche Niederscheyern-Maria Verkündigung\, Scheyererweg 3\, 
 85276 Niederscheyern
END:VEVENT
END:VCALENDAR
