BEGIN:VCALENDAR
VERSION:2.0
PRODID:-//Sabre//Sabre VObject 4.5.6//EN
CALSCALE:GREGORIAN
BEGIN:VEVENT
UID:sabre-vobject-2cc200ab-b447-4ed1-8548-01b236cc2014
DTSTAMP:20260425T123737Z
SUMMARY:Vesper mit eucharistischem Segen
DESCRIPTION:https://gottesdienstsuche.com/vesper-mit-eucharistischem-segen_
 id40616
DTSTART:20260514T163000
LOCATION:Pfarrkirche Scheyern-Heilig Kreuz (Klosterkirche)\, Schyrenplatz \
 , 85298 Scheyern
END:VEVENT
END:VCALENDAR
