BEGIN:VCALENDAR
VERSION:2.0
PRODID:-//Sabre//Sabre VObject 4.5.6//EN
CALSCALE:GREGORIAN
BEGIN:VEVENT
UID:sabre-vobject-72622897-daab-45f2-990f-e0295dcb9fb8
DTSTAMP:20260421T232741Z
SUMMARY:Konventgottesdienst\, Musik: M. Eham: Missa O du hochheilig Kreuze
DESCRIPTION:https://gottesdienstsuche.com/konventgottesdienst-musik-m-eham-
 missa-o-du-hochheilig-kreuze_id40614
DTSTART:20260514T100000
LOCATION:Pfarrkirche Scheyern-Heilig Kreuz (Klosterkirche)\, Schyrenplatz \
 , 85298 Scheyern
END:VEVENT
END:VCALENDAR
