BEGIN:VCALENDAR
VERSION:2.0
PRODID:-//Sabre//Sabre VObject 4.5.6//EN
CALSCALE:GREGORIAN
BEGIN:VEVENT
UID:sabre-vobject-a5ccfd1c-6b44-4b76-afb9-83099ea6f7c3
DTSTAMP:20260421T215421Z
SUMMARY:Bittgang in Scheyern: Treffpunkt Klosterhof. Weg: Wagnergasse\, Gru
 ndschule\, Schwedenberg\, Ortsmitte\, Marienstraße
DESCRIPTION:https://gottesdienstsuche.com/bittgang-in-scheyern-treffpunkt-k
 losterhof-weg-wagnergasse-grundschule-schwedenberg-ortsmitte-marienstrasse
 _id40609
DTSTART:20260513T190000
LOCATION:Pfarrkirche Scheyern-Heilig Kreuz (Klosterkirche)\, Schyrenplatz \
 , 85298 Scheyern
END:VEVENT
END:VCALENDAR
