BEGIN:VCALENDAR
VERSION:2.0
PRODID:-//Sabre//Sabre VObject 4.5.6//EN
CALSCALE:GREGORIAN
BEGIN:VEVENT
UID:sabre-vobject-9a62a35c-a0d2-4c5d-85ad-5fd4036485bd
DTSTAMP:20260421T214626Z
SUMMARY:Schaueramt für Zell\, Ober- und Unterschatterbach\, Winden an der 
 Kapelle in Zell\, bei Regen in der Basilika
DESCRIPTION:https://gottesdienstsuche.com/schaueramt-fuer-zell-ober-und-unt
 erschatterbach-winden-an-der-kapelle-in-zell-bei-regen-in-der-basilika_id4
 0606
DTSTART:20260512T193000
LOCATION:Pfarrkirche Scheyern-Heilig Kreuz (Klosterkirche)\, Schyrenplatz \
 , 85298 Scheyern
END:VEVENT
END:VCALENDAR
