BEGIN:VCALENDAR
VERSION:2.0
PRODID:-//Sabre//Sabre VObject 4.5.6//EN
CALSCALE:GREGORIAN
BEGIN:VEVENT
UID:sabre-vobject-b24eee52-45ba-48cf-af4c-5f5423e69df6
DTSTAMP:20260421T213700Z
SUMMARY:Bittgang von Biberg nach Zell
DESCRIPTION:https://gottesdienstsuche.com/bittgang-von-biberg-nach-zell_id4
 0605
DTSTART:20260512T190000
LOCATION:Pfarrkirche Scheyern-Heilig Kreuz (Klosterkirche)\, Schyrenplatz \
 , 85298 Scheyern
END:VEVENT
END:VCALENDAR
