BEGIN:VCALENDAR
VERSION:2.0
PRODID:-//Sabre//Sabre VObject 4.5.6//EN
CALSCALE:GREGORIAN
BEGIN:VEVENT
UID:sabre-vobject-31c23d7a-c25d-45d3-883c-499fa744f30e
DTSTAMP:20260422T012345Z
SUMMARY:Seniorennachmittag im Pfarrheim
DESCRIPTION:https://gottesdienstsuche.com/seniorennachmittag-im-pfarrheim_i
 d40603
DTSTART:20260512T143000
LOCATION:Pfarrheim Niederscheyern\, Schrobenhausener Str. 20\, 85276 Nieder
 scheyern
END:VEVENT
END:VCALENDAR
