BEGIN:VCALENDAR
VERSION:2.0
PRODID:-//Sabre//Sabre VObject 4.5.6//EN
CALSCALE:GREGORIAN
BEGIN:VEVENT
UID:sabre-vobject-59395c4c-a82b-453f-874b-f12d88fca034
DTSTAMP:20260421T234930Z
SUMMARY:Schaueramt für Mitterscheyern und Niederscheyern
DESCRIPTION:https://gottesdienstsuche.com/schaueramt-fuer-mitterscheyern-un
 d-niederscheyern_id40602
DTSTART:20260511T193000
LOCATION:Pfarrkirche Niederscheyern-Maria Verkündigung\, Scheyererweg 3\, 
 85276 Niederscheyern
END:VEVENT
END:VCALENDAR
