BEGIN:VCALENDAR
VERSION:2.0
PRODID:-//Sabre//Sabre VObject 4.5.6//EN
CALSCALE:GREGORIAN
BEGIN:VEVENT
UID:sabre-vobject-8e77c6e0-7c61-4a42-bd3d-7c923f892111
DTSTAMP:20260421T214551Z
SUMMARY:Bittgang von Mitterscheyern nach Niederscheyern\, Treffpunkt am Beg
 inn der Niederscheyerer Straße
DESCRIPTION:https://gottesdienstsuche.com/bittgang-von-mitterscheyern-nach-
 niederscheyern-treffpunkt-am-beginn-der-niederscheyerer-strasse_id40601
DTSTART:20260511T190000
LOCATION:Pfarrkirche Scheyern-Heilig Kreuz (Klosterkirche)\, Schyrenplatz \
 , 85298 Scheyern
END:VEVENT
END:VCALENDAR
