BEGIN:VCALENDAR
VERSION:2.0
PRODID:-//Sabre//Sabre VObject 4.5.6//EN
CALSCALE:GREGORIAN
BEGIN:VEVENT
UID:sabre-vobject-2992956c-119b-46dd-bb98-f44c6aff7dc5
DTSTAMP:20260421T234927Z
SUMMARY:Bittgang des Klosters\, anschl. Vesper und Messe
DESCRIPTION:https://gottesdienstsuche.com/bittgang-des-klosters-anschl-vesp
 er-und-messe_id40600
DTSTART:20260511T173000
LOCATION:Kapitelkirche Scheyern-St. Johannes Nepomuk\, Schyrenplatz\, 85298
  Scheyern
END:VEVENT
END:VCALENDAR
