BEGIN:VCALENDAR
VERSION:2.0
PRODID:-//Sabre//Sabre VObject 4.5.6//EN
CALSCALE:GREGORIAN
BEGIN:VEVENT
UID:sabre-vobject-e74a1027-2b5b-4e4d-a313-edae468a74f3
DTSTAMP:20260422T012712Z
SUMMARY:Seniorennachmittag im Pfarrzentrum Scheyern
DESCRIPTION:https://gottesdienstsuche.com/seniorennachmittag-im-pfarrzentru
 m-scheyern_id40599
DTSTART:20260511T140000
LOCATION:Pfarramt Scheyern-Hl. Kreuz u. Mariä Himmelfahrt\, Schyrenplatz 1
  Klosterverwaltung\, 85298 Scheyern
END:VEVENT
END:VCALENDAR
