BEGIN:VCALENDAR
VERSION:2.0
PRODID:-//Sabre//Sabre VObject 4.5.6//EN
CALSCALE:GREGORIAN
BEGIN:VEVENT
UID:sabre-vobject-33d27fde-735b-425f-8729-dcbd84989d0e
DTSTAMP:20260421T215603Z
SUMMARY:Gottesdienst am Muttertag\, mit Vorstellung der Firmlinge
DESCRIPTION:https://gottesdienstsuche.com/gottesdienst-am-muttertag-mit-vor
 stellung-der-firmlinge_id40594
DTSTART:20260510T100000
LOCATION:Pfarrkirche Scheyern-Heilig Kreuz (Klosterkirche)\, Schyrenplatz \
 , 85298 Scheyern
END:VEVENT
END:VCALENDAR
