BEGIN:VCALENDAR
VERSION:2.0
PRODID:-//Sabre//Sabre VObject 4.5.6//EN
CALSCALE:GREGORIAN
BEGIN:VEVENT
UID:sabre-vobject-eef64c78-23d1-4f06-9ea4-767625135b75
DTSTAMP:20260421T235021Z
SUMMARY:Vorabendgottesdienst
DESCRIPTION:https://gottesdienstsuche.com/vorabendgottesdienst_id40589
DTSTART:20260509T173000
LOCATION:Pfarrkirche Niederscheyern-Maria Verkündigung\, Scheyererweg 3\, 
 85276 Niederscheyern
END:VEVENT
END:VCALENDAR
