BEGIN:VCALENDAR
VERSION:2.0
PRODID:-//Sabre//Sabre VObject 4.5.6//EN
CALSCALE:GREGORIAN
BEGIN:VEVENT
UID:sabre-vobject-c203b9c5-0868-4e65-b661-902877dac7f1
DTSTAMP:20260421T215537Z
SUMMARY:Dankgottesdienst für die Erstkommunionfamilien in der Basilika Sch
 eyern\n
DESCRIPTION:https://gottesdienstsuche.com/dankgottesdienst-fuer-die-erstkom
 munionfamilien-in-der-basilika-scheyern_id40588
DTSTART:20260509T170000
LOCATION:Pfarrkirche Scheyern-Heilig Kreuz (Klosterkirche)\, Schyrenplatz \
 , 85298 Scheyern
END:VEVENT
END:VCALENDAR
