BEGIN:VCALENDAR
VERSION:2.0
PRODID:-//Sabre//Sabre VObject 4.5.6//EN
CALSCALE:GREGORIAN
BEGIN:VEVENT
UID:sabre-vobject-5cf208f5-cdf8-4180-9e90-def9693237f6
DTSTAMP:20260421T232522Z
SUMMARY:Mette und Messe
DESCRIPTION:https://gottesdienstsuche.com/mette-und-messe_id40586
DTSTART:20260509T064500
LOCATION:Kapitelkirche Scheyern-St. Johannes Nepomuk\, Schyrenplatz\, 85298
  Scheyern
END:VEVENT
END:VCALENDAR
