BEGIN:VCALENDAR
VERSION:2.0
PRODID:-//Sabre//Sabre VObject 4.5.6//EN
CALSCALE:GREGORIAN
BEGIN:VEVENT
UID:sabre-vobject-7077d2d5-43c3-4265-80f0-855f66cb1bef
DTSTAMP:20260423T101336Z
SUMMARY:Dank- und Bittmesse mit Hl. Kreuzsegen
DESCRIPTION:https://gottesdienstsuche.com/dank-und-bittmesse-mit-hl-kreuzse
 gen_id40584
DTSTART:20260508T190000
LOCATION:Pfarrkirche Scheyern-Heilig Kreuz (Klosterkirche)\, Schyrenplatz \
 , 85298 Scheyern
END:VEVENT
END:VCALENDAR
