BEGIN:VCALENDAR
VERSION:2.0
PRODID:-//Sabre//Sabre VObject 4.5.6//EN
CALSCALE:GREGORIAN
BEGIN:VEVENT
UID:sabre-vobject-3e1242cc-4dbd-418a-94cb-5b7b9267a37a
DTSTAMP:20260421T215413Z
SUMMARY:Maiandacht der Frauengemeinschaft kfd im Pfarrzentrum
DESCRIPTION:https://gottesdienstsuche.com/maiandacht-der-frauengemeinschaft
 -kfd-im-pfarrzentrum_id40583
DTSTART:20260508T190000
LOCATION:Pfarrkirche Scheyern-Heilig Kreuz (Klosterkirche)\, Schyrenplatz \
 , 85298 Scheyern
END:VEVENT
END:VCALENDAR
