BEGIN:VCALENDAR
VERSION:2.0
PRODID:-//Sabre//Sabre VObject 4.5.6//EN
CALSCALE:GREGORIAN
BEGIN:VEVENT
UID:sabre-vobject-29ca9c65-7c20-445e-baf4-e8cbeb6e64bd
DTSTAMP:20260423T115551Z
SUMMARY:Vesper
DESCRIPTION:https://gottesdienstsuche.com/vesper_id40581
DTSTART:20260508T174500
LOCATION:Kapitelkirche Scheyern-St. Johannes Nepomuk\, Schyrenplatz\, 85298
  Scheyern
END:VEVENT
END:VCALENDAR
