BEGIN:VCALENDAR
VERSION:2.0
PRODID:-//Sabre//Sabre VObject 4.5.6//EN
CALSCALE:GREGORIAN
BEGIN:VEVENT
UID:sabre-vobject-a684cfd3-5e39-4435-85bf-e2c7b1e30421
DTSTAMP:20260422T023855Z
SUMMARY:Maiandacht
DESCRIPTION:https://gottesdienstsuche.com/maiandacht_id40579
DTSTART:20260507T190000
LOCATION:Pfarrkirche Niederscheyern-Maria Verkündigung\, Scheyererweg 3\, 
 85276 Niederscheyern
END:VEVENT
END:VCALENDAR
