BEGIN:VCALENDAR
VERSION:2.0
PRODID:-//Sabre//Sabre VObject 4.5.6//EN
CALSCALE:GREGORIAN
BEGIN:VEVENT
UID:sabre-vobject-afc61080-ab47-4f8a-a4fc-c0701e8b64e3
DTSTAMP:20260421T214517Z
SUMMARY:Maiandacht in Vieth (am Viether Kreuz)
DESCRIPTION:https://gottesdienstsuche.com/maiandacht-in-vieth-am-viether-kr
 euz_id40577
DTSTART:20260506T193000
LOCATION:Pfarrkirche Scheyern-Heilig Kreuz (Klosterkirche)\, Schyrenplatz \
 , 85298 Scheyern
END:VEVENT
END:VCALENDAR
