BEGIN:VCALENDAR
VERSION:2.0
PRODID:-//Sabre//Sabre VObject 4.5.6//EN
CALSCALE:GREGORIAN
BEGIN:VEVENT
UID:sabre-vobject-6a346ca4-ee2c-4642-b1f8-f866972578cd
DTSTAMP:20260421T234933Z
SUMMARY:Vesper
DESCRIPTION:https://gottesdienstsuche.com/vesper_id40576
DTSTART:20260506T180000
LOCATION:Kapitelkirche Scheyern-St. Johannes Nepomuk\, Schyrenplatz\, 85298
  Scheyern
END:VEVENT
END:VCALENDAR
