BEGIN:VCALENDAR
VERSION:2.0
PRODID:-//Sabre//Sabre VObject 4.5.6//EN
CALSCALE:GREGORIAN
BEGIN:VEVENT
UID:sabre-vobject-3ef8c748-af08-4111-a9da-999b116722f1
DTSTAMP:20260421T214525Z
SUMMARY:Konventgottesdienst
DESCRIPTION:https://gottesdienstsuche.com/konventgottesdienst_id40575
DTSTART:20260506T070000
LOCATION:Pfarrkirche Scheyern-Heilig Kreuz (Klosterkirche)\, Schyrenplatz \
 , 85298 Scheyern
END:VEVENT
END:VCALENDAR
