BEGIN:VCALENDAR
VERSION:2.0
PRODID:-//Sabre//Sabre VObject 4.5.6//EN
CALSCALE:GREGORIAN
BEGIN:VEVENT
UID:sabre-vobject-96e7a2bc-1763-45a7-bc8d-e477ec029d29
DTSTAMP:20260421T234936Z
SUMMARY:Vesper und Messe
DESCRIPTION:https://gottesdienstsuche.com/vesper-und-messe_id40574
DTSTART:20260505T174500
LOCATION:Kapitelkirche Scheyern-St. Johannes Nepomuk\, Schyrenplatz\, 85298
  Scheyern
END:VEVENT
END:VCALENDAR
