BEGIN:VCALENDAR
VERSION:2.0
PRODID:-//Sabre//Sabre VObject 4.5.6//EN
CALSCALE:GREGORIAN
BEGIN:VEVENT
UID:sabre-vobject-6f8f8f9a-c587-4d5d-b6fb-c0bc74471300
DTSTAMP:20260421T214514Z
SUMMARY:Maiandacht in Mitterscheyern (beim Hoiß)\, im Freien mit Überdach
 ung
DESCRIPTION:https://gottesdienstsuche.com/maiandacht-in-mitterscheyern-beim
 -hoiss-im-freien-mit-ueberdachung_id40573
DTSTART:20260504T190000
LOCATION:Pfarrkirche Scheyern-Heilig Kreuz (Klosterkirche)\, Schyrenplatz \
 , 85298 Scheyern
END:VEVENT
END:VCALENDAR
