BEGIN:VCALENDAR
VERSION:2.0
PRODID:-//Sabre//Sabre VObject 4.5.6//EN
CALSCALE:GREGORIAN
BEGIN:VEVENT
UID:sabre-vobject-345d1636-e6e4-42f0-a06f-74e126389d2e
DTSTAMP:20260421T220334Z
SUMMARY:Abendgottesdienst am Hl. Kreuzfest mit der Fußwallfahrt aus Freisi
 ng\, Musik: Freisinger Gruppe
DESCRIPTION:https://gottesdienstsuche.com/abendgottesdienst-am-hl-kreuzfest
 -mit-der-fusswallfahrt-aus-freising-musik-freisinger-gruppe_id40569
DTSTART:20260503T190000
LOCATION:Pfarrkirche Scheyern-Heilig Kreuz (Klosterkirche)\, Schyrenplatz \
 , 85298 Scheyern
END:VEVENT
END:VCALENDAR
