BEGIN:VCALENDAR
VERSION:2.0
PRODID:-//Sabre//Sabre VObject 4.5.6//EN
CALSCALE:GREGORIAN
BEGIN:VEVENT
UID:sabre-vobject-aed436ff-ebec-4f0e-94c2-e617ddc18586
DTSTAMP:20260422T000843Z
SUMMARY:Maiandacht
DESCRIPTION:https://gottesdienstsuche.com/maiandacht_id40568
DTSTART:20260503T190000
LOCATION:Pfarrkirche Niederscheyern-Maria Verkündigung\, Scheyererweg 3\, 
 85276 Niederscheyern
END:VEVENT
END:VCALENDAR
