BEGIN:VCALENDAR
VERSION:2.0
PRODID:-//Sabre//Sabre VObject 4.5.6//EN
CALSCALE:GREGORIAN
BEGIN:VEVENT
UID:sabre-vobject-65f6a482-f831-4ab3-8e59-6cc3c1e2c2ae
DTSTAMP:20260421T213630Z
SUMMARY:Fatima-Rosenkranz
DESCRIPTION:https://gottesdienstsuche.com/fatima-rosenkranz_id40567
DTSTART:20260503T150000
LOCATION:Pfarrkirche Niederscheyern-Maria Verkündigung\, Scheyererweg 3\, 
 85276 Niederscheyern
END:VEVENT
END:VCALENDAR
