BEGIN:VCALENDAR
VERSION:2.0
PRODID:-//Sabre//Sabre VObject 4.5.6//EN
CALSCALE:GREGORIAN
BEGIN:VEVENT
UID:sabre-vobject-28e5cdff-8e36-4e8a-8e47-c5df7275ac58
DTSTAMP:20260421T195736Z
SUMMARY:Pontifikalvesper zum Hl. Kreuzfest\, anschließend Hl. Kreuzsegen
DESCRIPTION:https://gottesdienstsuche.com/pontifikalvesper-zum-hl-kreuzfest
 -anschliessend-hl-kreuzsegen_id40566
DTSTART:20260503T143000
LOCATION:Pfarrkirche Scheyern-Heilig Kreuz (Klosterkirche)\, Schyrenplatz \
 , 85298 Scheyern
END:VEVENT
END:VCALENDAR
