BEGIN:VCALENDAR
VERSION:2.0
PRODID:-//Sabre//Sabre VObject 4.5.6//EN
CALSCALE:GREGORIAN
BEGIN:VEVENT
UID:sabre-vobject-8e2bb53b-407b-4e38-8f6a-4a289406ab71
DTSTAMP:20260421T213525Z
SUMMARY:Spielenachmittag im Pfarrheim Niederscheyern
DESCRIPTION:https://gottesdienstsuche.com/spielenachmittag-im-pfarrheim-nie
 derscheyern_id40565
DTSTART:20260503T140000
LOCATION:Pfarrheim Niederscheyern\, Schrobenhausener Str. 20\, 85276 Nieder
 scheyern
END:VEVENT
END:VCALENDAR
