BEGIN:VCALENDAR
VERSION:2.0
PRODID:-//Sabre//Sabre VObject 4.5.6//EN
CALSCALE:GREGORIAN
BEGIN:VEVENT
UID:sabre-vobject-2fefd7e1-4685-4f7f-abef-0d28268ea099
DTSTAMP:20260421T201819Z
SUMMARY:HEILIG KREUZFEST - Wallfahrtsgottesdienst im Klosterhof mit Abt Pet
 rus Pilsinger OSB\, Benediktinerabtei Seitenstetten\, Österreich\,\nMusik
 : Woodbridge Choral Society und Basilikachor Scheyern:
DESCRIPTION:https://gottesdienstsuche.com/heilig-kreuzfest-wallfahrtsgottes
 dienst-im-klosterhof-mit-abt-petrus-pilsinger-osb-benediktinerabtei-seiten
 stetten-oesterreich-musik-woodbridge-choral-society-und-basilikachor-schey
 ern_id40564
DTSTART:20260503T100000
LOCATION:Pfarrkirche Scheyern-Heilig Kreuz (Klosterkirche)\, Schyrenplatz \
 , 85298 Scheyern
END:VEVENT
END:VCALENDAR
