BEGIN:VCALENDAR
VERSION:2.0
PRODID:-//Sabre//Sabre VObject 4.5.6//EN
CALSCALE:GREGORIAN
BEGIN:VEVENT
UID:sabre-vobject-038213ef-81ce-449c-ac57-d0edeea453e3
DTSTAMP:20260421T215410Z
SUMMARY:Kinderkirche im Pfarrsaal Scheyern
DESCRIPTION:https://gottesdienstsuche.com/kinderkirche-im-pfarrsaal-scheyer
 n_id40563
DTSTART:20260503T100000
LOCATION:Pfarramt Scheyern-Hl. Kreuz u. Mariä Himmelfahrt\, Schyrenplatz 1
  Klosterverwaltung\, 85298 Scheyern
END:VEVENT
END:VCALENDAR
