BEGIN:VCALENDAR
VERSION:2.0
PRODID:-//Sabre//Sabre VObject 4.5.6//EN
CALSCALE:GREGORIAN
BEGIN:VEVENT
UID:sabre-vobject-29e0260f-0266-471b-be1e-02ef833a0944
DTSTAMP:20260421T195739Z
SUMMARY:Frühgottesdienst
DESCRIPTION:https://gottesdienstsuche.com/fruehgottesdienst_id40561
DTSTART:20260503T080000
LOCATION:Pfarrkirche Scheyern-Heilig Kreuz (Klosterkirche)\, Schyrenplatz \
 , 85298 Scheyern
END:VEVENT
END:VCALENDAR
