BEGIN:VCALENDAR
VERSION:2.0
PRODID:-//Sabre//Sabre VObject 4.5.6//EN
CALSCALE:GREGORIAN
BEGIN:VEVENT
UID:sabre-vobject-b4a9f90a-ab27-4ca4-8377-e706a7b92d72
DTSTAMP:20260421T213706Z
SUMMARY:Vorabendgottesdienst
DESCRIPTION:https://gottesdienstsuche.com/vorabendgottesdienst_id40556
DTSTART:20260502T173000
LOCATION:Pfarrkirche Niederscheyern-Maria Verkündigung\, Scheyererweg 3\, 
 85276 Niederscheyern
END:VEVENT
END:VCALENDAR
