BEGIN:VCALENDAR
VERSION:2.0
PRODID:-//Sabre//Sabre VObject 4.5.6//EN
CALSCALE:GREGORIAN
BEGIN:VEVENT
UID:sabre-vobject-98b0d404-7f44-42ca-b997-6ef66a435ef0
DTSTAMP:20260421T195755Z
SUMMARY:Beichtgelegenheit\, im Beichtstuhl
DESCRIPTION:https://gottesdienstsuche.com/beichtgelegenheit-im-beichtstuhl_
 id40555
DTSTART:20260502T163000
LOCATION:Pfarrkirche Scheyern-Heilig Kreuz (Klosterkirche)\, Schyrenplatz \
 , 85298 Scheyern
END:VEVENT
END:VCALENDAR
