BEGIN:VCALENDAR
VERSION:2.0
PRODID:-//Sabre//Sabre VObject 4.5.6//EN
CALSCALE:GREGORIAN
BEGIN:VEVENT
UID:sabre-vobject-00e42063-b916-48c1-b069-ed27736c08cb
DTSTAMP:20260422T013921Z
SUMMARY:Erstkommuniongottesdienst (Teil 2) \n
DESCRIPTION:https://gottesdienstsuche.com/erstkommuniongottesdienst-teil-2_
 id40554
DTSTART:20260502T110000
LOCATION:Pfarrkirche Niederscheyern-Maria Verkündigung\, Scheyererweg 3\, 
 85276 Niederscheyern
END:VEVENT
END:VCALENDAR
