BEGIN:VCALENDAR
VERSION:2.0
PRODID:-//Sabre//Sabre VObject 4.5.6//EN
CALSCALE:GREGORIAN
BEGIN:VEVENT
UID:sabre-vobject-5ec3766f-1ad6-44e4-9392-617402e27650
DTSTAMP:20260422T011840Z
SUMMARY:Gottesdienst\, gemeinsam mit den Wallfahrern aus Paunzhausen
DESCRIPTION:https://gottesdienstsuche.com/gottesdienst-gemeinsam-mit-den-wa
 llfahrern-aus-paunzhausen_id40553
DTSTART:20260502T090000
LOCATION:Pfarrkirche Niederscheyern-Maria Verkündigung\, Scheyererweg 3\, 
 85276 Niederscheyern
END:VEVENT
END:VCALENDAR
