BEGIN:VCALENDAR
VERSION:2.0
PRODID:-//Sabre//Sabre VObject 4.5.6//EN
CALSCALE:GREGORIAN
BEGIN:VEVENT
UID:sabre-vobject-ea78926a-aa09-44c6-9cf2-d5e5167a1e8c
DTSTAMP:20260421T234818Z
SUMMARY:Mette und Messe
DESCRIPTION:https://gottesdienstsuche.com/mette-und-messe_id40552
DTSTART:20260502T064500
LOCATION:Kapitelkirche Scheyern-St. Johannes Nepomuk\, Schyrenplatz\, 85298
  Scheyern
END:VEVENT
END:VCALENDAR
