BEGIN:VCALENDAR
VERSION:2.0
PRODID:-//Sabre//Sabre VObject 4.5.6//EN
CALSCALE:GREGORIAN
BEGIN:VEVENT
UID:sabre-vobject-f43be230-9809-4a18-9842-43afcd39f370
DTSTAMP:20260421T220315Z
SUMMARY:Maiandacht an der Mariensäule (bei geeigneter Witterung im Freien)
DESCRIPTION:https://gottesdienstsuche.com/maiandacht-an-der-mariensaeule-be
 i-geeigneter-witterung-im-freien_id40551
DTSTART:20260501T200000
LOCATION:Pfarrkirche Gerolsbach-St. Andreas\, St.-Andreas-Str. 7\, 85302 Ge
 rolsbach
END:VEVENT
END:VCALENDAR
