BEGIN:VCALENDAR
VERSION:2.0
PRODID:-//Sabre//Sabre VObject 4.5.6//EN
CALSCALE:GREGORIAN
BEGIN:VEVENT
UID:sabre-vobject-e061654b-1a01-4962-8c2e-504588bbe150
DTSTAMP:20260421T201539Z
SUMMARY:Erste Maiandacht\, in der Basilika\, Musik: Ensemble Shamrock
DESCRIPTION:https://gottesdienstsuche.com/erste-maiandacht-in-der-basilika-
 musik-ensemble-shamrock_id40550
DTSTART:20260501T190000
LOCATION:Pfarrkirche Scheyern-Heilig Kreuz (Klosterkirche)\, Schyrenplatz \
 , 85298 Scheyern
END:VEVENT
END:VCALENDAR
