BEGIN:VCALENDAR
VERSION:2.0
PRODID:-//Sabre//Sabre VObject 4.5.6//EN
CALSCALE:GREGORIAN
BEGIN:VEVENT
UID:sabre-vobject-6d3693aa-7c9d-4a2f-b24a-9c9939bd58e7
DTSTAMP:20260421T195743Z
SUMMARY:Gottesdienst in der Blaumoser Kapelle
DESCRIPTION:https://gottesdienstsuche.com/gottesdienst-in-der-blaumoser-kap
 elle_id40548
DTSTART:20260501T090000
LOCATION:Pfarrkirche Scheyern-Heilig Kreuz (Klosterkirche)\, Schyrenplatz \
 , 85298 Scheyern
END:VEVENT
END:VCALENDAR
