BEGIN:VCALENDAR
VERSION:2.0
PRODID:-//Sabre//Sabre VObject 4.5.6//EN
CALSCALE:GREGORIAN
BEGIN:VEVENT
UID:sabre-vobject-2a2f0d3d-1a47-4a2c-ba76-09c5688dcdca
DTSTAMP:20260421T200656Z
SUMMARY:Konventgottesdienst zum ersten Mai
DESCRIPTION:https://gottesdienstsuche.com/konventgottesdienst-zum-ersten-ma
 i_id40547
DTSTART:20260501T080000
LOCATION:Pfarrkirche Scheyern-Heilig Kreuz (Klosterkirche)\, Schyrenplatz \
 , 85298 Scheyern
END:VEVENT
END:VCALENDAR
